Package: GenomicScores Version: 2.19.1 Command: /home/biocbuild/bbs-3.21-bioc/R/bin/R CMD INSTALL GenomicScores StartedAt: 2025-02-04 15:32:53 -0500 (Tue, 04 Feb 2025) EndedAt: 2025-02-04 15:33:23 -0500 (Tue, 04 Feb 2025) EllapsedTime: 30.1 seconds RetCode: 0 Status: OK