Package: GenomicScores Version: 2.19.1 Command: rm -rf GenomicScores.buildbin-libdir && mkdir GenomicScores.buildbin-libdir && E:\biocbuild\bbs-3.21-bioc\R\bin\R.exe CMD INSTALL --build --library=GenomicScores.buildbin-libdir GenomicScores_2.19.1.tar.gz StartedAt: 2025-02-05 08:01:07 -0500 (Wed, 05 Feb 2025) EndedAt: 2025-02-05 08:02:05 -0500 (Wed, 05 Feb 2025) EllapsedTime: 58.2 seconds RetCode: 0 Status: OK PackageFile: GenomicScores_2.19.1.zip PackageFileSize: 1.812 MiB