Package: GenomicScores Version: 2.19.1 Command: chmod a+r GenomicScores -R && E:\biocbuild\bbs-3.21-bioc\R\bin\R.exe CMD build --keep-empty-dirs --no-resave-data GenomicScores StartedAt: 2025-02-04 18:57:37 -0500 (Tue, 04 Feb 2025) EndedAt: 2025-02-04 19:01:22 -0500 (Tue, 04 Feb 2025) EllapsedTime: 224.7 seconds RetCode: 0 Status: OK PackageFile: GenomicScores_2.19.1.tar.gz PackageFileSize: 1.284 MiB