Package: GenomicScores Version: 2.19.1 Command: E:\biocbuild\bbs-3.21-bioc\R\bin\R.exe CMD INSTALL GenomicScores StartedAt: 2025-02-04 15:49:05 -0500 (Tue, 04 Feb 2025) EndedAt: 2025-02-04 15:50:55 -0500 (Tue, 04 Feb 2025) EllapsedTime: 109.3 seconds RetCode: 0 Status: OK