Package: GenomicTuples Version: 1.41.1 Command: /Library/Frameworks/R.framework/Resources/bin/R CMD build --keep-empty-dirs --no-resave-data GenomicTuples StartedAt: 2025-02-09 16:26:06 -0500 (Sun, 09 Feb 2025) EndedAt: 2025-02-09 16:26:20 -0500 (Sun, 09 Feb 2025) EllapsedTime: 14.1 seconds RetCode: 0 Status: OK PackageFile: GenomicTuples_1.41.1.tar.gz PackageFileSize: 303.1 KiB