Package: GenomicTuples Version: 1.41.1 Command: rm -rf GenomicTuples.buildbin-libdir && mkdir GenomicTuples.buildbin-libdir && /Users/biocbuild/BBS/utils/build-universal.sh GenomicTuples_1.41.1.tar.gz /Library/Frameworks/R.framework/Resources/bin/R GenomicTuples.buildbin-libdir StartedAt: 2025-02-10 00:55:19 -0500 (Mon, 10 Feb 2025) EndedAt: 2025-02-10 00:55:59 -0500 (Mon, 10 Feb 2025) EllapsedTime: 40.2 seconds RetCode: 0 Status: OK PackageFile: GenomicTuples_1.41.1.tgz PackageFileSize: 902.6 KiB