Package: GenomicTuples Version: 1.41.1 Command: /Library/Frameworks/R.framework/Resources/bin/R CMD check --install=check:GenomicTuples.install-out.txt --library=/Library/Frameworks/R.framework/Resources/library --no-vignettes --timings GenomicTuples_1.41.1.tar.gz StartedAt: 2025-02-12 20:44:39 -0500 (Wed, 12 Feb 2025) EndedAt: 2025-02-12 20:46:56 -0500 (Wed, 12 Feb 2025) EllapsedTime: 137.6 seconds RetCode: 0 Status: OK CheckDir: GenomicTuples.Rcheck Warnings: 0