Package: GenomicTuples Version: 1.41.1 Command: /home/biocbuild/bbs-3.21-bioc/R/bin/R CMD INSTALL GenomicTuples StartedAt: 2025-02-09 15:30:31 -0500 (Sun, 09 Feb 2025) EndedAt: 2025-02-09 15:30:59 -0500 (Sun, 09 Feb 2025) EllapsedTime: 28.4 seconds RetCode: 0 Status: OK