Package: GeoDiff Version: 1.13.0 Command: rm -rf GeoDiff.buildbin-libdir && mkdir GeoDiff.buildbin-libdir && /Users/biocbuild/BBS/utils/build-universal.sh GeoDiff_1.13.0.tar.gz /Library/Frameworks/R.framework/Resources/bin/R GeoDiff.buildbin-libdir StartedAt: 2025-02-09 22:15:52 -0500 (Sun, 09 Feb 2025) EndedAt: 2025-02-09 22:16:18 -0500 (Sun, 09 Feb 2025) EllapsedTime: 26.6 seconds RetCode: 0 Status: OK PackageFile: GeoDiff_1.13.0.tgz PackageFileSize: 4.799 MiB