Package: GeoDiff Version: 1.13.0 Command: /Library/Frameworks/R.framework/Resources/bin/R CMD INSTALL GeoDiff StartedAt: 2025-02-09 15:29:23 -0500 (Sun, 09 Feb 2025) EndedAt: 2025-02-09 15:29:47 -0500 (Sun, 09 Feb 2025) EllapsedTime: 23.9 seconds RetCode: 0 Status: OK