Package: GeoDiff Version: 1.13.0 Command: /home/biocbuild/R/R/bin/R CMD build --keep-empty-dirs --no-resave-data GeoDiff StartedAt: 2025-01-28 23:09:15 -0000 (Tue, 28 Jan 2025) EndedAt: 2025-01-28 23:15:19 -0000 (Tue, 28 Jan 2025) EllapsedTime: 364.1 seconds RetCode: 0 Status: OK PackageFile: GeoDiff_1.13.0.tar.gz PackageFileSize: 4.395 MiB