Package: GeoDiff Version: 1.13.0 Command: /home/biocbuild/R/R/bin/R CMD INSTALL GeoDiff StartedAt: 2025-01-29 20:36:30 -0000 (Wed, 29 Jan 2025) EndedAt: 2025-01-29 20:38:44 -0000 (Wed, 29 Jan 2025) EllapsedTime: 134.2 seconds RetCode: 0 Status: OK