Package: GeoDiff Version: 1.13.0 Command: rm -rf GeoDiff.buildbin-libdir && mkdir GeoDiff.buildbin-libdir && /Users/biocbuild/BBS/utils/build-universal.sh GeoDiff_1.13.0.tar.gz /Library/Frameworks/R.framework/Resources/bin/R GeoDiff.buildbin-libdir StartedAt: 2025-02-10 00:55:21 -0500 (Mon, 10 Feb 2025) EndedAt: 2025-02-10 00:57:03 -0500 (Mon, 10 Feb 2025) EllapsedTime: 101.8 seconds RetCode: 0 Status: OK PackageFile: GeoDiff_1.13.0.tgz PackageFileSize: 4.835 MiB