Package: GeoDiff Version: 1.13.0 Command: /Library/Frameworks/R.framework/Resources/bin/R CMD build --keep-empty-dirs --no-resave-data GeoDiff StartedAt: 2025-02-09 16:53:29 -0500 (Sun, 09 Feb 2025) EndedAt: 2025-02-09 16:57:49 -0500 (Sun, 09 Feb 2025) EllapsedTime: 259.8 seconds RetCode: 0 Status: OK PackageFile: GeoDiff_1.13.0.tar.gz PackageFileSize: 4.581 MiB