Package: GeoDiff Version: 1.13.0 Command: /Library/Frameworks/R.framework/Resources/bin/R CMD check --install=check:GeoDiff.install-out.txt --library=/Library/Frameworks/R.framework/Resources/library --no-vignettes --timings GeoDiff_1.13.0.tar.gz StartedAt: 2025-02-09 20:56:43 -0500 (Sun, 09 Feb 2025) EndedAt: 2025-02-09 21:02:07 -0500 (Sun, 09 Feb 2025) EllapsedTime: 323.7 seconds RetCode: 0 Status: OK CheckDir: GeoDiff.Rcheck Warnings: 0