Package: GeoDiff Version: 1.13.0 Command: /Library/Frameworks/R.framework/Resources/bin/R CMD INSTALL GeoDiff StartedAt: 2025-02-09 15:45:30 -0500 (Sun, 09 Feb 2025) EndedAt: 2025-02-09 15:46:53 -0500 (Sun, 09 Feb 2025) EllapsedTime: 82.7 seconds RetCode: 0 Status: OK