Package: GeoDiff Version: 1.13.0 Command: /home/biocbuild/bbs-3.21-bioc/R/bin/R CMD build --keep-empty-dirs --no-resave-data GeoDiff StartedAt: 2025-02-09 17:23:48 -0500 (Sun, 09 Feb 2025) EndedAt: 2025-02-09 17:27:45 -0500 (Sun, 09 Feb 2025) EllapsedTime: 237.3 seconds RetCode: 0 Status: OK PackageFile: GeoDiff_1.13.0.tar.gz PackageFileSize: 4.541 MiB