Package: GeoDiff Version: 1.13.0 Command: /home/biocbuild/bbs-3.21-bioc/R/bin/R CMD INSTALL GeoDiff StartedAt: 2025-02-09 15:16:13 -0500 (Sun, 09 Feb 2025) EndedAt: 2025-02-09 15:17:37 -0500 (Sun, 09 Feb 2025) EllapsedTime: 84.1 seconds RetCode: 0 Status: OK