Package: GeoDiff Version: 1.13.0 Command: E:\biocbuild\bbs-3.21-bioc\R\bin\R.exe CMD INSTALL GeoDiff StartedAt: 2025-02-09 16:57:39 -0500 (Sun, 09 Feb 2025) EndedAt: 2025-02-09 16:59:26 -0500 (Sun, 09 Feb 2025) EllapsedTime: 107.3 seconds RetCode: 0 Status: OK