Package: GeoTcgaData Version: 2.7.0 Command: /Library/Frameworks/R.framework/Resources/bin/R CMD build --keep-empty-dirs --no-resave-data GeoTcgaData StartedAt: 2025-02-09 16:27:01 -0500 (Sun, 09 Feb 2025) EndedAt: 2025-02-09 16:27:31 -0500 (Sun, 09 Feb 2025) EllapsedTime: 29.3 seconds RetCode: 0 Status: OK PackageFile: GeoTcgaData_2.7.0.tar.gz PackageFileSize: 3.318 MiB