Package: GeoTcgaData Version: 2.7.0 Command: rm -rf GeoTcgaData.buildbin-libdir && mkdir GeoTcgaData.buildbin-libdir && /Users/biocbuild/BBS/utils/build-universal.sh GeoTcgaData_2.7.0.tar.gz /Library/Frameworks/R.framework/Resources/bin/R GeoTcgaData.buildbin-libdir StartedAt: 2025-02-10 00:55:34 -0500 (Mon, 10 Feb 2025) EndedAt: 2025-02-10 00:56:29 -0500 (Mon, 10 Feb 2025) EllapsedTime: 55.4 seconds RetCode: 0 Status: OK PackageFile: GeoTcgaData_2.7.0.tgz PackageFileSize: 3.412 MiB