Package: GeoTcgaData Version: 2.7.0 Command: /Library/Frameworks/R.framework/Resources/bin/R CMD INSTALL GeoTcgaData StartedAt: 2025-02-09 15:33:47 -0500 (Sun, 09 Feb 2025) EndedAt: 2025-02-09 15:34:38 -0500 (Sun, 09 Feb 2025) EllapsedTime: 51.2 seconds RetCode: 0 Status: OK