Package: GeoTcgaData Version: 2.7.0 Command: /home/biocbuild/bbs-3.21-bioc/R/bin/R CMD build --keep-empty-dirs --no-resave-data GeoTcgaData StartedAt: 2025-02-09 17:24:31 -0500 (Sun, 09 Feb 2025) EndedAt: 2025-02-09 17:25:40 -0500 (Sun, 09 Feb 2025) EllapsedTime: 69.1 seconds RetCode: 0 Status: OK PackageFile: GeoTcgaData_2.7.0.tar.gz PackageFileSize: 3.318 MiB