Package: GeoTcgaData Version: 2.7.0 Command: /home/biocbuild/bbs-3.21-bioc/R/bin/R CMD check --install=check:GeoTcgaData.install-out.txt --library=/home/biocbuild/bbs-3.21-bioc/R/site-library --timings GeoTcgaData_2.7.0.tar.gz StartedAt: 2025-02-09 22:42:49 -0500 (Sun, 09 Feb 2025) EndedAt: 2025-02-09 22:46:53 -0500 (Sun, 09 Feb 2025) EllapsedTime: 244.3 seconds RetCode: 0 Status: OK CheckDir: GeoTcgaData.Rcheck Warnings: 0