Package: GeoTcgaData Version: 2.7.0 Command: rm -rf GeoTcgaData.buildbin-libdir && mkdir GeoTcgaData.buildbin-libdir && E:\biocbuild\bbs-3.21-bioc\R\bin\R.exe CMD INSTALL --build --library=GeoTcgaData.buildbin-libdir GeoTcgaData_2.7.0.tar.gz StartedAt: 2025-02-10 07:50:32 -0500 (Mon, 10 Feb 2025) EndedAt: 2025-02-10 07:52:58 -0500 (Mon, 10 Feb 2025) EllapsedTime: 145.7 seconds RetCode: 0 Status: OK PackageFile: GeoTcgaData_2.7.0.zip PackageFileSize: 3.427 MiB