Package: GeomxTools Version: 3.11.0 Command: rm -rf GeomxTools.buildbin-libdir && mkdir GeomxTools.buildbin-libdir && /Users/biocbuild/BBS/utils/build-universal.sh GeomxTools_3.11.0.tar.gz /Library/Frameworks/R.framework/Resources/bin/R GeomxTools.buildbin-libdir StartedAt: 2025-02-09 22:15:54 -0500 (Sun, 09 Feb 2025) EndedAt: 2025-02-09 22:16:07 -0500 (Sun, 09 Feb 2025) EllapsedTime: 13.2 seconds RetCode: 0 Status: OK PackageFile: GeomxTools_3.11.0.tgz PackageFileSize: 15.74 MiB