Package: GeomxTools Version: 3.11.0 Command: /home/biocbuild/R/R/bin/R CMD INSTALL GeomxTools StartedAt: 2025-01-29 20:06:40 -0000 (Wed, 29 Jan 2025) EndedAt: 2025-01-29 20:07:19 -0000 (Wed, 29 Jan 2025) EllapsedTime: 38.7 seconds RetCode: 0 Status: OK