Package: GeomxTools Version: 3.11.0 Command: /home/biocbuild/bbs-3.21-bioc/R/bin/R CMD build --keep-empty-dirs --no-resave-data GeomxTools StartedAt: 2025-02-09 17:24:21 -0500 (Sun, 09 Feb 2025) EndedAt: 2025-02-09 17:30:08 -0500 (Sun, 09 Feb 2025) EllapsedTime: 347.4 seconds RetCode: 0 Status: OK PackageFile: GeomxTools_3.11.0.tar.gz PackageFileSize: 15.58 MiB