Package: GeomxTools Version: 3.11.0 Command: chmod a+r GeomxTools -R && E:\biocbuild\bbs-3.21-bioc\R\bin\R.exe CMD build --keep-empty-dirs --no-resave-data GeomxTools StartedAt: 2025-02-09 18:56:34 -0500 (Sun, 09 Feb 2025) EndedAt: 2025-02-09 19:04:57 -0500 (Sun, 09 Feb 2025) EllapsedTime: 503.0 seconds RetCode: 0 Status: OK PackageFile: GeomxTools_3.11.0.tar.gz PackageFileSize: 13.93 MiB