Package: GloScope Version: 1.5.0 Maintainer: William Torous MaintainerEmail: wtorous at berkeley.edu git_url: https://git.bioconductor.org/packages/GloScope git_branch: devel git_last_commit: 62fe7a1 git_last_commit_date: 2024-10-29 11:23:45 -0500 (Tue, 29 Oct 2024)