Package: GloScope Version: 1.5.0 Command: /Library/Frameworks/R.framework/Resources/bin/R CMD build --keep-empty-dirs --no-resave-data GloScope StartedAt: 2025-02-04 16:29:24 -0500 (Tue, 04 Feb 2025) EndedAt: 2025-02-04 16:29:47 -0500 (Tue, 04 Feb 2025) EllapsedTime: 22.2 seconds RetCode: 0 Status: OK PackageFile: GloScope_1.5.0.tar.gz PackageFileSize: 2.634 MiB