Package: GloScope Version: 1.5.0 Command: /Library/Frameworks/R.framework/Resources/bin/R CMD check --install=check:GloScope.install-out.txt --library=/Library/Frameworks/R.framework/Resources/library --no-vignettes --timings GloScope_1.5.0.tar.gz StartedAt: 2025-02-04 19:30:45 -0500 (Tue, 04 Feb 2025) EndedAt: 2025-02-04 19:34:26 -0500 (Tue, 04 Feb 2025) EllapsedTime: 221.6 seconds RetCode: 0 Status: OK CheckDir: GloScope.Rcheck Warnings: 0