Package: GloScope Version: 1.5.0 Command: /Library/Frameworks/R.framework/Resources/bin/R CMD INSTALL GloScope StartedAt: 2025-02-09 15:07:41 -0500 (Sun, 09 Feb 2025) EndedAt: 2025-02-09 15:07:51 -0500 (Sun, 09 Feb 2025) EllapsedTime: 9.2 seconds RetCode: 0 Status: OK