Package: GloScope Version: 1.5.0 Command: /Library/Frameworks/R.framework/Resources/bin/R CMD check --install=check:GloScope.install-out.txt --library=/Library/Frameworks/R.framework/Resources/library --no-vignettes --timings GloScope_1.5.0.tar.gz StartedAt: 2025-02-03 20:52:43 -0500 (Mon, 03 Feb 2025) EndedAt: 2025-02-03 21:02:45 -0500 (Mon, 03 Feb 2025) EllapsedTime: 602.1 seconds RetCode: 0 Status: OK CheckDir: GloScope.Rcheck Warnings: 0