Package: GloScope Version: 1.5.0 Command: /Library/Frameworks/R.framework/Resources/bin/R CMD INSTALL GloScope StartedAt: 2025-02-03 15:19:00 -0500 (Mon, 03 Feb 2025) EndedAt: 2025-02-03 15:19:33 -0500 (Mon, 03 Feb 2025) EllapsedTime: 32.6 seconds RetCode: 0 Status: OK