Package: GloScope Version: 1.5.0 Command: rm -rf GloScope.buildbin-libdir && mkdir GloScope.buildbin-libdir && E:\biocbuild\bbs-3.21-bioc\R\bin\R.exe CMD INSTALL --build --library=GloScope.buildbin-libdir GloScope_1.5.0.tar.gz StartedAt: 2025-02-04 08:05:20 -0500 (Tue, 04 Feb 2025) EndedAt: 2025-02-04 08:05:56 -0500 (Tue, 04 Feb 2025) EllapsedTime: 35.1 seconds RetCode: 0 Status: OK PackageFile: GloScope_1.5.0.zip PackageFileSize: 2.566 MiB