Package: GloScope Version: 1.5.0 Command: E:\biocbuild\bbs-3.21-bioc\R\bin\R.exe CMD check --no-multiarch --install=check:GloScope.install-out.txt --library=E:\biocbuild\bbs-3.21-bioc\R\library --no-vignettes --timings GloScope_1.5.0.tar.gz StartedAt: 2025-02-10 01:37:53 -0500 (Mon, 10 Feb 2025) EndedAt: 2025-02-10 01:51:16 -0500 (Mon, 10 Feb 2025) EllapsedTime: 803.3 seconds RetCode: 0 Status: OK CheckDir: GloScope.Rcheck Warnings: 0