Package: GlobalAncova Version: 4.25.0 Command: /Library/Frameworks/R.framework/Resources/bin/R CMD INSTALL GlobalAncova StartedAt: 2025-02-09 15:35:33 -0500 (Sun, 09 Feb 2025) EndedAt: 2025-02-09 15:36:06 -0500 (Sun, 09 Feb 2025) EllapsedTime: 33.6 seconds RetCode: 0 Status: OK