Package: GlobalAncova Version: 4.25.0 Command: /home/biocbuild/bbs-3.21-bioc/R/bin/R CMD build --keep-empty-dirs --no-resave-data GlobalAncova StartedAt: 2025-02-12 17:23:25 -0500 (Wed, 12 Feb 2025) EndedAt: 2025-02-12 17:31:32 -0500 (Wed, 12 Feb 2025) EllapsedTime: 486.4 seconds RetCode: 0 Status: OK PackageFile: GlobalAncova_4.25.0.tar.gz PackageFileSize: 1.207 MiB