Package: GmicR Version: 1.21.0 Command: /Library/Frameworks/R.framework/Resources/bin/R CMD build --keep-empty-dirs --no-resave-data GmicR StartedAt: 2025-02-09 16:29:29 -0500 (Sun, 09 Feb 2025) EndedAt: 2025-02-09 16:33:49 -0500 (Sun, 09 Feb 2025) EllapsedTime: 259.7 seconds RetCode: 0 Status: OK PackageFile: GmicR_1.21.0.tar.gz PackageFileSize: 3.493 MiB