Package: GmicR Version: 1.21.0 Command: /home/biocbuild/bbs-3.21-bioc/R/bin/R CMD check --install=check:GmicR.install-out.txt --library=/home/biocbuild/bbs-3.21-bioc/R/site-library --timings GmicR_1.21.0.tar.gz StartedAt: 2025-02-04 22:47:26 -0500 (Tue, 04 Feb 2025) EndedAt: 2025-02-04 23:12:25 -0500 (Tue, 04 Feb 2025) EllapsedTime: 1499.4 seconds RetCode: 0 Status: WARNINGS CheckDir: GmicR.Rcheck Warnings: 1