Package: GmicR Version: 1.21.0 Command: E:\biocbuild\bbs-3.21-bioc\R\bin\R.exe CMD check --no-multiarch --install=check:GmicR.install-out.txt --library=E:\biocbuild\bbs-3.21-bioc\R\library --no-vignettes --timings GmicR_1.21.0.tar.gz StartedAt: 2025-02-10 01:38:02 -0500 (Mon, 10 Feb 2025) EndedAt: 2025-02-10 01:57:46 -0500 (Mon, 10 Feb 2025) EllapsedTime: 1183.9 seconds RetCode: 0 Status: WARNINGS CheckDir: GmicR.Rcheck Warnings: 1