Package: GmicR Version: 1.21.0 Command: E:\biocbuild\bbs-3.21-bioc\R\bin\R.exe CMD INSTALL GmicR StartedAt: 2025-02-09 15:59:16 -0500 (Sun, 09 Feb 2025) EndedAt: 2025-02-09 15:59:49 -0500 (Sun, 09 Feb 2025) EllapsedTime: 32.8 seconds RetCode: 0 Status: OK