Package: GrafGen Version: 1.3.0 Maintainer: William Wheeler MaintainerEmail: wheelerb at imsweb.com git_url: https://git.bioconductor.org/packages/GrafGen git_branch: devel git_last_commit: 017ffaa git_last_commit_date: 2025-01-24 11:47:29 -0500 (Fri, 24 Jan 2025)