Package: GrafGen Version: 1.3.0 Command: /Library/Frameworks/R.framework/Resources/bin/R CMD build --keep-empty-dirs --no-resave-data GrafGen StartedAt: 2025-02-12 16:32:03 -0500 (Wed, 12 Feb 2025) EndedAt: 2025-02-12 16:32:17 -0500 (Wed, 12 Feb 2025) EllapsedTime: 14.2 seconds RetCode: 0 Status: OK PackageFile: GrafGen_1.3.0.tar.gz PackageFileSize: 3.104 MiB