Package: GrafGen Version: 1.3.0 Command: /home/biocbuild/R/R/bin/R CMD INSTALL GrafGen StartedAt: 2025-01-29 20:33:09 -0000 (Wed, 29 Jan 2025) EndedAt: 2025-01-29 20:33:43 -0000 (Wed, 29 Jan 2025) EllapsedTime: 34.0 seconds RetCode: 0 Status: OK