Package: GrafGen Version: 1.3.0 Command: /home/biocbuild/bbs-3.21-bioc/R/bin/R CMD build --keep-empty-dirs --no-resave-data GrafGen StartedAt: 2025-02-09 17:30:12 -0500 (Sun, 09 Feb 2025) EndedAt: 2025-02-09 17:30:46 -0500 (Sun, 09 Feb 2025) EllapsedTime: 34.0 seconds RetCode: 0 Status: OK PackageFile: GrafGen_1.3.0.tar.gz PackageFileSize: 3.068 MiB