Package: GrafGen Version: 1.3.0 Command: rm -rf GrafGen.buildbin-libdir && mkdir GrafGen.buildbin-libdir && E:\biocbuild\bbs-3.21-bioc\R\bin\R.exe CMD INSTALL --build --library=GrafGen.buildbin-libdir GrafGen_1.3.0.tar.gz StartedAt: 2025-02-10 07:53:03 -0500 (Mon, 10 Feb 2025) EndedAt: 2025-02-10 07:53:46 -0500 (Mon, 10 Feb 2025) EllapsedTime: 43.0 seconds RetCode: 0 Status: OK PackageFile: GrafGen_1.3.0.zip PackageFileSize: 3.446 MiB