Package: GrafGen Version: 1.3.0 Command: chmod a+r GrafGen -R && E:\biocbuild\bbs-3.21-bioc\R\bin\R.exe CMD build --keep-empty-dirs --no-resave-data GrafGen StartedAt: 2025-02-09 19:04:09 -0500 (Sun, 09 Feb 2025) EndedAt: 2025-02-09 19:05:06 -0500 (Sun, 09 Feb 2025) EllapsedTime: 56.8 seconds RetCode: 0 Status: OK PackageFile: GrafGen_1.3.0.tar.gz PackageFileSize: 2.986 MiB