Package: GrafGen Version: 1.3.0 Command: E:\biocbuild\bbs-3.21-bioc\R\bin\R.exe CMD check --no-multiarch --install=check:GrafGen.install-out.txt --library=E:\biocbuild\bbs-3.21-bioc\R\library --no-vignettes --timings GrafGen_1.3.0.tar.gz StartedAt: 2025-02-10 01:42:22 -0500 (Mon, 10 Feb 2025) EndedAt: 2025-02-10 01:44:50 -0500 (Mon, 10 Feb 2025) EllapsedTime: 147.6 seconds RetCode: 0 Status: OK CheckDir: GrafGen.Rcheck Warnings: 0